BEGIN:VCALENDAR
VERSION:2.0
PRODID:-//Asociación Red Nacional Infértiles. - ECPv6.15.20//NONSGML v1.0//EN
CALSCALE:GREGORIAN
METHOD:PUBLISH
X-WR-CALNAME:Asociación Red Nacional Infértiles.
X-ORIGINAL-URL:https://redinfertiles.com
X-WR-CALDESC:Eventos para Asociación Red Nacional Infértiles.
REFRESH-INTERVAL;VALUE=DURATION:PT1H
X-Robots-Tag:noindex
X-PUBLISHED-TTL:PT1H
BEGIN:VTIMEZONE
TZID:Europe/Madrid
BEGIN:DAYLIGHT
TZOFFSETFROM:+0100
TZOFFSETTO:+0200
TZNAME:CEST
DTSTART:20250330T010000
END:DAYLIGHT
BEGIN:STANDARD
TZOFFSETFROM:+0200
TZOFFSETTO:+0100
TZNAME:CET
DTSTART:20251026T010000
END:STANDARD
BEGIN:DAYLIGHT
TZOFFSETFROM:+0100
TZOFFSETTO:+0200
TZNAME:CEST
DTSTART:20260329T010000
END:DAYLIGHT
BEGIN:STANDARD
TZOFFSETFROM:+0200
TZOFFSETTO:+0100
TZNAME:CET
DTSTART:20261025T010000
END:STANDARD
BEGIN:DAYLIGHT
TZOFFSETFROM:+0100
TZOFFSETTO:+0200
TZNAME:CEST
DTSTART:20270328T010000
END:DAYLIGHT
BEGIN:STANDARD
TZOFFSETFROM:+0200
TZOFFSETTO:+0100
TZNAME:CET
DTSTART:20271031T010000
END:STANDARD
END:VTIMEZONE
BEGIN:VEVENT
DTSTART;TZID=Europe/Madrid:20260424T080000
DTEND;TZID=Europe/Madrid:20260430T170000
DTSTAMP:20260424T035023
CREATED:20260417T074012Z
LAST-MODIFIED:20260417T074012Z
UID:53094-1777017600-1777568400@redinfertiles.com
SUMMARY:CAFÉS DE LOS SUEÑOS ABRIL 2026
DESCRIPTION:CAFÉ DE LOS SUEÑOS ABRIL 2026 ¿Necesitas un ratito para hablar\, compartir con otras compañeras de camino\, reír\, llorar y abrazar [aunque sea virtualmente]? \n☕Estos son los Cafés de los Sueños para este mes\, vente ¡no estás sol@! \n📆Viernes 24 de abril PRESENCIAL ALICANTE a las 17:00h con Nuria🕛\n📆Lunes 27 de abril ONLINE a las 10:00h con Paula🕓\n📆Miércoles 29 de abril PRESENCIAL BILBAO a las 17:30h con Ángela🕠\n📆Jueves 30 de abril ONLINE a las 9:30h con Johanna🕔 \nTe recordamos que el número máximo de asistentes por café será de 6 personas\, para asegurar que todas podemos escucharnos. (Inscripción en abierto. Prioritaria para asociadas)\n¡Apúntate! \nInscripciones en👉 https://redinfertiles.com/red-infertiles-3/unete-a-la-red-el-cafe-de-los-suenos/ \n¡Nos vemos prontito!
URL:https://redinfertiles.com/actividades-infertilidad/cafes-de-los-suenos-abril-2026/
LOCATION:En Casa o Presencial
CATEGORIES:Actividades RedIn,Café de los Sueños. Grupo de apoyo infertilidad,Café de los Sueños. Grupo de apoyo infertilidad on-line
ATTACH;FMTTYPE=image/png:https://redinfertiles.com/wp-content/uploads/2026/04/CAFES-RNI-10801350-32-e1776412059773.png
END:VEVENT
END:VCALENDAR