BEGIN:VCALENDAR
VERSION:2.0
PRODID:-//Asociación Red Nacional Infértiles. - ECPv6.15.20//NONSGML v1.0//EN
CALSCALE:GREGORIAN
METHOD:PUBLISH
X-ORIGINAL-URL:https://redinfertiles.com
X-WR-CALDESC:Eventos para Asociación Red Nacional Infértiles.
REFRESH-INTERVAL;VALUE=DURATION:PT1H
X-Robots-Tag:noindex
X-PUBLISHED-TTL:PT1H
BEGIN:VTIMEZONE
TZID:Europe/Madrid
BEGIN:DAYLIGHT
TZOFFSETFROM:+0100
TZOFFSETTO:+0200
TZNAME:CEST
DTSTART:20180325T010000
END:DAYLIGHT
BEGIN:STANDARD
TZOFFSETFROM:+0200
TZOFFSETTO:+0100
TZNAME:CET
DTSTART:20181028T010000
END:STANDARD
BEGIN:DAYLIGHT
TZOFFSETFROM:+0100
TZOFFSETTO:+0200
TZNAME:CEST
DTSTART:20190331T010000
END:DAYLIGHT
BEGIN:STANDARD
TZOFFSETFROM:+0200
TZOFFSETTO:+0100
TZNAME:CET
DTSTART:20191027T010000
END:STANDARD
BEGIN:DAYLIGHT
TZOFFSETFROM:+0100
TZOFFSETTO:+0200
TZNAME:CEST
DTSTART:20200329T010000
END:DAYLIGHT
BEGIN:STANDARD
TZOFFSETFROM:+0200
TZOFFSETTO:+0100
TZNAME:CET
DTSTART:20201025T010000
END:STANDARD
END:VTIMEZONE
BEGIN:VEVENT
DTSTART;TZID=Europe/Madrid:20191101T080000
DTEND;TZID=Europe/Madrid:20191225T170000
DTSTAMP:20260423T000922
CREATED:20191113T203234Z
LAST-MODIFIED:20191113T203234Z
UID:10684-1572595200-1577293200@redinfertiles.com
SUMMARY:Amigo Invisible Infértil 2019
DESCRIPTION:Que mejor manera de vivir la navidad que con nuestras compis de batalla\, por ello hemos decidido acercaros un poco mas con nuestro AMIGO INVISIBLE INFÉRTIL. \nMejor que papá Noel y los Reyes Magos\, el regalo que nos llegue por correo será de alguien mas mágico y fuerte\, alguien que ha pasado o pasa por lo mismo que tú. \n¿Te apuntas? \n** Solo para asociadas.
URL:https://redinfertiles.com/actividades-infertilidad/amigo-invisible-infertil-2019/
CATEGORIES:Actividades RedIn
ATTACH;FMTTYPE=image/png:https://redinfertiles.com/wp-content/uploads/2019/11/amigo-invisible.png
ORGANIZER;CN="Asociaci%C3%B3n Red Nacional de Inf%C3%A9rtiles":MAILTO:hola@redinfertiles.com
END:VEVENT
BEGIN:VEVENT
DTSTART;TZID=Europe/Madrid:20191217T190000
DTEND;TZID=Europe/Madrid:20191217T200000
DTSTAMP:20260423T000922
CREATED:20191126T105242Z
LAST-MODIFIED:20191126T105319Z
UID:10706-1576609200-1576612800@redinfertiles.com
SUMMARY:Navidad. Cómo gestionar las emociones
DESCRIPTION:La Navidad puede ser el momento más difícil del año para cualquier persona que esté pasando por un tratamiento de fertilidad. \nSon fiestas con unos patrones muy marcados tanto a nivel social como familiar y esto puede generar un auténtico carrusel de emociones. \nEn nuestra charla hablaremos de diferentes situaciones y estrategias que se pueden adoptar para que éstas fechas sean más llevaderas e intentemos gestionar lo mejor posible nuestras emociones. \nTe esperamos! \nPuedes inscribirte aquí: https://goo.gl/forms/ih1IGoKQRsE56XOG2
URL:https://redinfertiles.com/actividades-infertilidad/navidad-como-gestionar-las-emociones/
LOCATION:YouTube
CATEGORIES:Actividades RedIn,jornadas,YouTube Live
ATTACH;FMTTYPE=image/png:https://redinfertiles.com/wp-content/uploads/2019/11/INFERTILIDAD-Y-NAVIDADES-2019-e1574765434625.png
ORGANIZER;CN="Asociaci%C3%B3n Red Nacional de Inf%C3%A9rtiles":MAILTO:hola@redinfertiles.com
END:VEVENT
END:VCALENDAR