BEGIN:VCALENDAR
VERSION:2.0
PRODID:-//Asociación Red Nacional Infértiles. - ECPv6.15.20//NONSGML v1.0//EN
CALSCALE:GREGORIAN
METHOD:PUBLISH
X-ORIGINAL-URL:https://redinfertiles.com
X-WR-CALDESC:Eventos para Asociación Red Nacional Infértiles.
REFRESH-INTERVAL;VALUE=DURATION:PT1H
X-Robots-Tag:noindex
X-PUBLISHED-TTL:PT1H
BEGIN:VTIMEZONE
TZID:Europe/Madrid
BEGIN:DAYLIGHT
TZOFFSETFROM:+0100
TZOFFSETTO:+0200
TZNAME:CEST
DTSTART:20190331T010000
END:DAYLIGHT
BEGIN:STANDARD
TZOFFSETFROM:+0200
TZOFFSETTO:+0100
TZNAME:CET
DTSTART:20191027T010000
END:STANDARD
BEGIN:DAYLIGHT
TZOFFSETFROM:+0100
TZOFFSETTO:+0200
TZNAME:CEST
DTSTART:20200329T010000
END:DAYLIGHT
BEGIN:STANDARD
TZOFFSETFROM:+0200
TZOFFSETTO:+0100
TZNAME:CET
DTSTART:20201025T010000
END:STANDARD
BEGIN:DAYLIGHT
TZOFFSETFROM:+0100
TZOFFSETTO:+0200
TZNAME:CEST
DTSTART:20210328T010000
END:DAYLIGHT
BEGIN:STANDARD
TZOFFSETFROM:+0200
TZOFFSETTO:+0100
TZNAME:CET
DTSTART:20211031T010000
END:STANDARD
END:VTIMEZONE
BEGIN:VEVENT
DTSTART;TZID=Europe/Madrid:20200325T170000
DTEND;TZID=Europe/Madrid:20200325T200000
DTSTAMP:20260422T193923
CREATED:20200227T121348Z
LAST-MODIFIED:20200227T121348Z
UID:12872-1585155600-1585166400@redinfertiles.com
SUMMARY:Spring Meeting
DESCRIPTION:Reunión anual de la Asociación Europea de asociaciones de pacientes con infertilidad\, de la que Red Infértiles es miembro y este año\, ¡anfitriona! \nNos reuniremos en Madrid los días 25-26 y 27 de Marzo. \nPresentaremos la reunión con una jornada muy especial en la que la ciencia\, profesionales y pacientes serán los protagonistas.
URL:https://redinfertiles.com/actividades-infertilidad/spring-meeting/
CATEGORIES:Actividades RedIn
ATTACH;FMTTYPE=image/png:https://redinfertiles.com/wp-content/uploads/2020/02/87387190_1547134442105574_5232522007760863232_n.png
ORGANIZER;CN="Asociaci%C3%B3n Red Nacional de Inf%C3%A9rtiles":MAILTO:hola@redinfertiles.com
END:VEVENT
END:VCALENDAR