BEGIN:VCALENDAR
VERSION:2.0
PRODID:-//Asociación Red Nacional Infértiles. - ECPv6.15.20//NONSGML v1.0//EN
CALSCALE:GREGORIAN
METHOD:PUBLISH
X-WR-CALNAME:Asociación Red Nacional Infértiles.
X-ORIGINAL-URL:https://redinfertiles.com
X-WR-CALDESC:Eventos para Asociación Red Nacional Infértiles.
REFRESH-INTERVAL;VALUE=DURATION:PT1H
X-Robots-Tag:noindex
X-PUBLISHED-TTL:PT1H
BEGIN:VTIMEZONE
TZID:Europe/Madrid
BEGIN:DAYLIGHT
TZOFFSETFROM:+0100
TZOFFSETTO:+0200
TZNAME:CEST
DTSTART:20190331T010000
END:DAYLIGHT
BEGIN:STANDARD
TZOFFSETFROM:+0200
TZOFFSETTO:+0100
TZNAME:CET
DTSTART:20191027T010000
END:STANDARD
BEGIN:DAYLIGHT
TZOFFSETFROM:+0100
TZOFFSETTO:+0200
TZNAME:CEST
DTSTART:20200329T010000
END:DAYLIGHT
BEGIN:STANDARD
TZOFFSETFROM:+0200
TZOFFSETTO:+0100
TZNAME:CET
DTSTART:20201025T010000
END:STANDARD
BEGIN:DAYLIGHT
TZOFFSETFROM:+0100
TZOFFSETTO:+0200
TZNAME:CEST
DTSTART:20210328T010000
END:DAYLIGHT
BEGIN:STANDARD
TZOFFSETFROM:+0200
TZOFFSETTO:+0100
TZNAME:CET
DTSTART:20211031T010000
END:STANDARD
END:VTIMEZONE
BEGIN:VEVENT
DTSTART;TZID=Europe/Madrid:20200701T080000
DTEND;TZID=Europe/Madrid:20200915T170000
DTSTAMP:20260422T122613
CREATED:20200619T092042Z
LAST-MODIFIED:20200619T092042Z
UID:13721-1593590400-1600189200@redinfertiles.com
SUMMARY:Concurso Espejito Viajero
DESCRIPTION:Llega el verano\, y con él\, vuelve nuestro Espejito Viajero. \nEsta es una época que puede ser muy buena para desconectar y recargar energías\, y/o un calvario por el stand by que provoca.\nEstos dos meses se pueden hacer interminables y lo que tenemos que intentar hacer es buscar actividades que nos distraigan la mente\, oxigenen y recarguen de energía. \nNecesitamos llegar a septiembre con las pilas a tope.\nSeptiembre es el mes del volver a empezar\, de  nuevos propósitos y oportunidades y sobretodo de volver a encender la maquinaria para conseguir nuestros sueños\, así que sea cual sea tu verano\, deseamos que lo vivas con fuerza. \nHemos pensado que es un buen momento para llegar a más rincones de España y porqué no\, del mundo entero ? \nComo no podemos ir nosotras\, haremos viajar a nuestro espejito\, símbolo de fuerza y empatía. ¿TE APUNTAS? \nQueremos llegar a todas las personas que pueden estar sintiéndose solas en su infertilidad\, y podemos hacerlo de una manera divertida\, aprovechando nuestras vacaciones\, así que ahí va la propuesta: \nLleva tu espejito contigo\, y cuando estés en un rincón inspirador\, relajante\, enérgico o que te transmita fuerza haz una foto donde salga el espejo. (QUE NO TE VAYAS DE VACACIONES FUERA DE TU CIUDAD\, NO QUIERE DECIR QUE NO PUEDAS DISFRUTAR DE SITIOS O MOMENTOS MÁGICOS?) \n¿Qué hacer con la foto? \n1. Súbela a tu Instagram \n2. Etiquétanos: @redinfertiles \n3. Añade el #espejitoviajero2020 \nNosotras haremos repost de todas y cada una de ellas.\nLa foto más votada con más corazones\, ganará un regalo muy especial?. \n¿Que te parece la idea?\n¿¿Te animas?? \nFecha de inicio: 1 de julio\nFecha de finalización: 15 de septiembre  \n¡¡¡Que rule el espejito!!!
URL:https://redinfertiles.com/actividades-infertilidad/concurso-espejito-viajero-2/
CATEGORIES:Actividades RedIn
ATTACH;FMTTYPE=image/jpeg:https://redinfertiles.com/wp-content/uploads/2020/06/PLANTILLA-ESPEJO-LOGO-NUEVO-v2.jpg
ORGANIZER;CN="Asociaci%C3%B3n Red Nacional de Inf%C3%A9rtiles":MAILTO:hola@redinfertiles.com
END:VEVENT
END:VCALENDAR