BEGIN:VCALENDAR
VERSION:2.0
PRODID:-//Asociación Red Nacional Infértiles. - ECPv6.15.20//NONSGML v1.0//EN
CALSCALE:GREGORIAN
METHOD:PUBLISH
X-WR-CALNAME:Asociación Red Nacional Infértiles.
X-ORIGINAL-URL:https://redinfertiles.com
X-WR-CALDESC:Eventos para Asociación Red Nacional Infértiles.
REFRESH-INTERVAL;VALUE=DURATION:PT1H
X-Robots-Tag:noindex
X-PUBLISHED-TTL:PT1H
BEGIN:VTIMEZONE
TZID:Europe/Madrid
BEGIN:DAYLIGHT
TZOFFSETFROM:+0100
TZOFFSETTO:+0200
TZNAME:CEST
DTSTART:20190331T010000
END:DAYLIGHT
BEGIN:STANDARD
TZOFFSETFROM:+0200
TZOFFSETTO:+0100
TZNAME:CET
DTSTART:20191027T010000
END:STANDARD
BEGIN:DAYLIGHT
TZOFFSETFROM:+0100
TZOFFSETTO:+0200
TZNAME:CEST
DTSTART:20200329T010000
END:DAYLIGHT
BEGIN:STANDARD
TZOFFSETFROM:+0200
TZOFFSETTO:+0100
TZNAME:CET
DTSTART:20201025T010000
END:STANDARD
BEGIN:DAYLIGHT
TZOFFSETFROM:+0100
TZOFFSETTO:+0200
TZNAME:CEST
DTSTART:20210328T010000
END:DAYLIGHT
BEGIN:STANDARD
TZOFFSETFROM:+0200
TZOFFSETTO:+0100
TZNAME:CET
DTSTART:20211031T010000
END:STANDARD
END:VTIMEZONE
BEGIN:VEVENT
DTSTART;TZID=Europe/Madrid:20201102T080000
DTEND;TZID=Europe/Madrid:20201107T170000
DTSTAMP:20260420T072244
CREATED:20201006T130005Z
LAST-MODIFIED:20201006T125300Z
UID:14379-1604304000-1604768400@redinfertiles.com
SUMMARY:Virtual Infert 2020
DESCRIPTION:Os presentamos nuestro próximo eventazo multicanal y ONLINE. \n\n\nVirtual Infert llega para quedarse toda una semana con contenidos exclusivos para quienes están recorriendo este camino de la infertilidad. \n\n\n \n\n\nTendremos testimonios de mujeres muy conocidas que han pasado o están pasando por esto\, mesas redondas con expertos y pacientes\, talleres\, charlas y MUCHOS buenos ratos [incluidas sorpresas].\n\n\n \n\n\nReserva tu plaza gratis aquí y ahora\, para no perderte todo lo que está por llegar https://www.weezevent.com/virtual-infert\n\n\n \n\n\nBienvenid@s a la nueva semana europea de la fertilidad!
URL:https://redinfertiles.com/actividades-infertilidad/virtual-infert-2020/
LOCATION:En Casa
CATEGORIES:Actividades RedIn
ATTACH;FMTTYPE=image/png:https://redinfertiles.com/wp-content/uploads/2020/10/CAMPANA-RED-INFERTILES-4.png
ORGANIZER;CN="Asociaci%C3%B3n Red Nacional de Inf%C3%A9rtiles":MAILTO:hola@redinfertiles.com
END:VEVENT
BEGIN:VEVENT
DTSTART;VALUE=DATE:20201117
DTEND;VALUE=DATE:20201126
DTSTAMP:20260420T072244
CREATED:20201117T120924Z
LAST-MODIFIED:20201117T122345Z
UID:14705-1605571200-1606348799@redinfertiles.com
SUMMARY:Amigo Invisible Infértil 2020
DESCRIPTION:¡Y van 6! 6 años ya con nuestro proyecto del Amigo Invisible Infertil 2020. Qué alegría poder deciros que seguimos adelante\, que un año más\, vamos a recibir en nuestra casa ese apoyo incondicional de una persona desconocida\, y\, a la vez\, tan cercana. \nY es que vienen malas fechas\, todas lo sabemos. Pero no estamos solas. Somos muchas. \nSi eres asociada\, apúntate y siente el cariño\, siente la magia que se crea cuando tienes que pensar en qué regalar a tu amiga invisible\, cuando preparas su regalito… \nY abrir el buzón y ver ese paquetito\, preparado para ti con tanto amor y cariño es…¡muy\, muy especial! \n¡Sabemos que no te vas arrepentir! \nApúntate: https://redinfertiles.com/amigo-invisible-infertil-2020/ \nSolo para asociadas.
URL:https://redinfertiles.com/actividades-infertilidad/amigo-invisible-infertil-2020/
LOCATION:En Casa
CATEGORIES:Actividades RedIn
ATTACH;FMTTYPE=image/jpeg:https://redinfertiles.com/wp-content/uploads/2020/11/Tarjeta-del-dia-del-Amigo-color-Menta-y-Azul.-1-e1605609843458.jpg
ORGANIZER;CN="Asociaci%C3%B3n Red Nacional de Inf%C3%A9rtiles":MAILTO:hola@redinfertiles.com
END:VEVENT
END:VCALENDAR