BEGIN:VCALENDAR
VERSION:2.0
PRODID:-//Asociación Red Nacional Infértiles. - ECPv6.15.20//NONSGML v1.0//EN
CALSCALE:GREGORIAN
METHOD:PUBLISH
X-ORIGINAL-URL:https://redinfertiles.com
X-WR-CALDESC:Eventos para Asociación Red Nacional Infértiles.
REFRESH-INTERVAL;VALUE=DURATION:PT1H
X-Robots-Tag:noindex
X-PUBLISHED-TTL:PT1H
BEGIN:VTIMEZONE
TZID:Europe/Madrid
BEGIN:DAYLIGHT
TZOFFSETFROM:+0100
TZOFFSETTO:+0200
TZNAME:CEST
DTSTART:20190331T010000
END:DAYLIGHT
BEGIN:STANDARD
TZOFFSETFROM:+0200
TZOFFSETTO:+0100
TZNAME:CET
DTSTART:20191027T010000
END:STANDARD
BEGIN:DAYLIGHT
TZOFFSETFROM:+0100
TZOFFSETTO:+0200
TZNAME:CEST
DTSTART:20200329T010000
END:DAYLIGHT
BEGIN:STANDARD
TZOFFSETFROM:+0200
TZOFFSETTO:+0100
TZNAME:CET
DTSTART:20201025T010000
END:STANDARD
BEGIN:DAYLIGHT
TZOFFSETFROM:+0100
TZOFFSETTO:+0200
TZNAME:CEST
DTSTART:20210328T010000
END:DAYLIGHT
BEGIN:STANDARD
TZOFFSETFROM:+0200
TZOFFSETTO:+0100
TZNAME:CET
DTSTART:20211031T010000
END:STANDARD
END:VTIMEZONE
BEGIN:VEVENT
DTSTART;TZID=Europe/Madrid:20201221T190000
DTEND;TZID=Europe/Madrid:20201221T200000
DTSTAMP:20260420T055006
CREATED:20201201T105136Z
LAST-MODIFIED:20201201T105136Z
UID:14888-1608577200-1608580800@redinfertiles.com
SUMMARY:Aprende a gestionar la carga emocional en Navidad
DESCRIPTION:La Navidad puede ser el momento más difícil del año para cualquier persona que esté pasando por un tratamiento de fertilidad. \nSon fiestas con unos patrones muy marcados tanto a nivel social como familiar y esto puede generar un auténtico carrusel de emociones. \nEn nuestra charla hablaremos de diferentes situaciones y estrategias que se pueden adoptar para que éstas fechas sean más llevaderas e intentemos gestionar lo mejor posible nuestras emociones. \nTe esperamos! \nPuedes inscribirte aquí: https://goo.gl/forms/ih1IGoKQRsE56XOG2
URL:https://redinfertiles.com/actividades-infertilidad/aprende-a-gestionar-la-carga-emocional-en-navidad/
LOCATION:En Casa
CATEGORIES:Actividades RedIn,YouTube Live
ATTACH;FMTTYPE=image/jpeg:https://redinfertiles.com/wp-content/uploads/2020/12/charla-nagore-scaled.jpg
ORGANIZER;CN="Asociaci%C3%B3n Red Nacional de Inf%C3%A9rtiles":MAILTO:hola@redinfertiles.com
END:VEVENT
END:VCALENDAR