BEGIN:VCALENDAR
VERSION:2.0
PRODID:-//Asociación Red Nacional Infértiles. - ECPv6.15.20//NONSGML v1.0//EN
CALSCALE:GREGORIAN
METHOD:PUBLISH
X-WR-CALNAME:Asociación Red Nacional Infértiles.
X-ORIGINAL-URL:https://redinfertiles.com
X-WR-CALDESC:Eventos para Asociación Red Nacional Infértiles.
REFRESH-INTERVAL;VALUE=DURATION:PT1H
X-Robots-Tag:noindex
X-PUBLISHED-TTL:PT1H
BEGIN:VTIMEZONE
TZID:Europe/Madrid
BEGIN:DAYLIGHT
TZOFFSETFROM:+0100
TZOFFSETTO:+0200
TZNAME:CEST
DTSTART:20200329T010000
END:DAYLIGHT
BEGIN:STANDARD
TZOFFSETFROM:+0200
TZOFFSETTO:+0100
TZNAME:CET
DTSTART:20201025T010000
END:STANDARD
BEGIN:DAYLIGHT
TZOFFSETFROM:+0100
TZOFFSETTO:+0200
TZNAME:CEST
DTSTART:20210328T010000
END:DAYLIGHT
BEGIN:STANDARD
TZOFFSETFROM:+0200
TZOFFSETTO:+0100
TZNAME:CET
DTSTART:20211031T010000
END:STANDARD
BEGIN:DAYLIGHT
TZOFFSETFROM:+0100
TZOFFSETTO:+0200
TZNAME:CEST
DTSTART:20220327T010000
END:DAYLIGHT
BEGIN:STANDARD
TZOFFSETFROM:+0200
TZOFFSETTO:+0100
TZNAME:CET
DTSTART:20221030T010000
END:STANDARD
END:VTIMEZONE
BEGIN:VEVENT
DTSTART;TZID=Europe/Madrid:20210304T190000
DTEND;TZID=Europe/Madrid:20210304T200000
DTSTAMP:20260420T005322
CREATED:20210222T092352Z
LAST-MODIFIED:20210302T112217Z
UID:15745-1614884400-1614888000@redinfertiles.com
SUMMARY:INSTAGRAM LIVE. EL EXPERTO RESPONDE CON IVF SPAIN MADRID
DESCRIPTION:El jueves 4 de Marzo  a las 19.00 tenemos nuevo INSTRAGRAM LIVE con la Dra. Calomarde\, ginecóloga especializada en Reproducción Asistida de IVF Spain Madrid\, para resolver todas las dudas que tengas de reproducción asistida e infertilidad. \nSerá desde la cuenta de INSTRAGRAM de Red Infértiles. https://www.instagram.com/redinfertiles/ \nApunta en un papel todo lo que te inquieta y no dejes de preguntar! \n 
URL:https://redinfertiles.com/actividades-infertilidad/instagram-live-el-experto-responde-con-ivf-spain-madrid/
LOCATION:En Casa
CATEGORIES:Actividades RedIn,Instagram Live
ATTACH;FMTTYPE=image/jpeg:https://redinfertiles.com/wp-content/uploads/2021/02/live_expertos_25mar20_calomarde_1024x1024.jpg
ORGANIZER;CN="Asociaci%C3%B3n Red Nacional de Inf%C3%A9rtiles":MAILTO:hola@redinfertiles.com
END:VEVENT
BEGIN:VEVENT
DTSTART;TZID=Europe/Madrid:20210325T190000
DTEND;TZID=Europe/Madrid:20210325T200000
DTSTAMP:20260420T005322
CREATED:20210302T112406Z
LAST-MODIFIED:20210310T083809Z
UID:15928-1616698800-1616702400@redinfertiles.com
SUMMARY:INSTAGRAM LIVE. EL EXPERTO RESPONDE CON UR IMED VALENCIA
DESCRIPTION:El jueves 25 de Marzo  a las 19.00 tenemos nuevo INSTRAGRAM LIVE con el Dr. Adolfo de Prados\, responsable del área de ginecología de UR IMED Valencia\, para resolver todas las dudas que tengas sobre Abortos de Repetición. \nSerá desde la cuenta de INSTRAGRAM de Red Infértiles. https://www.instagram.com/redinfertiles/ \nApunta en un papel todo lo que te inquieta y no dejes de preguntar!
URL:https://redinfertiles.com/actividades-infertilidad/instagram-live-el-experto-responde-con-ur-imed-valencia/
LOCATION:En Casa
CATEGORIES:Actividades RedIn,Instagram Live
ATTACH;FMTTYPE=image/jpeg:https://redinfertiles.com/wp-content/uploads/2021/03/live_expertos_25mar20_1024x1024-1.jpg
ORGANIZER;CN="Asociaci%C3%B3n Red Nacional de Inf%C3%A9rtiles":MAILTO:hola@redinfertiles.com
END:VEVENT
END:VCALENDAR